BEGIN:VCALENDAR
VERSION:2.0
PRODID:-// - ECPv6.15.20//NONSGML v1.0//EN
CALSCALE:GREGORIAN
METHOD:PUBLISH
X-ORIGINAL-URL:https://www.350th.com
X-WR-CALDESC:Events for 
REFRESH-INTERVAL;VALUE=DURATION:PT1H
X-Robots-Tag:noindex
X-PUBLISHED-TTL:PT1H
BEGIN:VTIMEZONE
TZID:UTC
BEGIN:STANDARD
TZOFFSETFROM:+0000
TZOFFSETTO:+0000
TZNAME:UTC
DTSTART:20160101T000000
END:STANDARD
END:VTIMEZONE
BEGIN:VEVENT
DTSTART;VALUE=DATE:20180407
DTEND;VALUE=DATE:20180408
DTSTAMP:20260424T024137
CREATED:20180130T182948Z
LAST-MODIFIED:20180130T182948Z
UID:564-1523059200-1523145599@www.350th.com
SUMMARY:Old North State Fishing Fest
DESCRIPTION:Saturday\, April 7\, 2018 \nOld North State Fishing Fest \nIn Celebration of Chowan County’s 350th Anniversary\, the Old North State Fishing Festival now in its 3rd year will take place on Saturday\, April 7th at Pembroke Marina Fishing Center. This event is coordinated by the American Legion Post 40 members and invites anyone interested in volunteering with a boat for taking wounded warriors out fishing or to help with hands-on needs throughout the planning and operation process to contact E C Toppin or Fred Morrow. \n6 am until \nPembroke Marina and Fishing Center \n252-482-4057 \nectoppin@hotmail.com
URL:https://www.350th.com/event/old-north-state-fishing-fest/
LOCATION:Pembroke Marina and Fishing Center\, Edenton\, North Carolina
END:VEVENT
BEGIN:VEVENT
DTSTART;TZID=UTC:20180405T110000
DTEND;TZID=UTC:20180430T160000
DTSTAMP:20260424T024137
CREATED:20180130T190959Z
LAST-MODIFIED:20180130T190959Z
UID:583-1522926000-1525104000@www.350th.com
SUMMARY:"Creations from the Cashie"
DESCRIPTION:Thursday\, April 5-30\, 2018 \n“Creations from the Cashie” \nIn celebration of Chowan County’s 350th Anniversary\, our talented artists in Bertie County will exhibit their artwork throughout the month in the CAC Gallery. \nStay Tuned for the time and exact date of the Opening Reception. \n11 am – 4 pm daily \nChowan Arts Council Gallery \n252-482-8005 \ncacedenton@gmail.com \nchowanarts.com
URL:https://www.350th.com/event/creations-from-the-cashie/
LOCATION:Chowan Arts Council Gallery\, 504 S Broad St\, Edenton\, NC\, 27932
END:VEVENT
BEGIN:VEVENT
DTSTART;VALUE=DATE:20180403
DTEND;VALUE=DATE:20180418
DTSTAMP:20260424T024137
CREATED:20180130T183108Z
LAST-MODIFIED:20180130T183108Z
UID:567-1522713600-1524009599@www.350th.com
SUMMARY:Rocky Hock Playhouse Easter Show
DESCRIPTION:Tuesday\, April 3-17\, 2018 \nRocky Hock Playhouse Easter Show \nIn celebration of Chowan County’s 3500th Anniversary\, “Our Risen Savior” will be the Eastern Show. \nFor Schedule and Ticket Information contact rockyhockplayhouse.com \nCall for Schedule \nNixon’s Catering Facility 749 Virginia Rd \nCall for Ticket Prices \n252-482-4621 \nrockyhockplayhouse.com
URL:https://www.350th.com/event/rocky-hock-playhouse-easter-show-2/
LOCATION:Rocky Hock Playhouse\, 749 Virginia Road\, Edenton\, North Carolina
END:VEVENT
BEGIN:VEVENT
DTSTART;VALUE=DATE:20180401
DTEND;VALUE=DATE:20180501
DTSTAMP:20260424T024137
CREATED:20180130T190824Z
LAST-MODIFIED:20180130T190824Z
UID:581-1522540800-1525132799@www.350th.com
SUMMARY:Celebrate NC Beer Month In Historic Edenton
DESCRIPTION:April 1-30\, 2018 \nCelebrate NC Beer Month In Historic Edenton \nCelebrate NC Beer Month and the 350th Anniversary of Chowan County with touring\, a selection of NC Craft Beers and events that feature food and beverages special to NC. \nNC Hometown Flavors come to 309 Bistro & Spirits offering a selection of NC Brews during the month of April featuring Natty Green’s Southern Pale Yale from Greensboro; Open Tuesday – Saturday 11 am – 2 pm and 5 – 9 pm; 309 South Broad Street; 252-482-0997 \nEdenton Bay Trading Company Courtyard will feature NC Craft Beers from Mystery Brewing\, Duck Rabbit\, Rail House\, Lone Rider\, Aviator and Weeping Radish breweries; Open Monday and Tuesday 10 am – 6 pm; Wednesday and Thursday 10 am – 8 pm; Friday 10 am – 9 pm Toast to the Weekend starts at 6 pm; Sangria Saturday 10 am – 10 pm with Vinyl Night starting at 7 pm and Sunday 12 noon – 5 pm\, 407 South Broad Street; 252-482-4045 \n  \nCelebrating NC Beer Month and Earth Day at Waterman’s Grill with a selection of beer from Mother Earth Brewing Co. in Kinston\, NC in addition to their Highland Brewery Beers. Be good to your Mother! Earth Day is April 22nd! Open Monday – Saturday 4:30 pm until; 427 South Broad Street; 252-482-7733 \nThe 51 House offers Hoppyum Draft out of Winston Salem; Open Tuesday – Thursday 4:40 – 9 pm; Friday – Saturday 4:40 – 10 pm; Sunday 10:30 am – 2:30 pm and 4:40 – 9 pm; 105 Wharf Landing; 252-482-2500 \nThe Table Restaurant is busy working on some Custom Brews along with ordering up some special brews in Celebration; Open for Dinner every evening. A Sunday Jazz Brunch 11 am – 2:30 pm. Dinner Sun – Thurs 5 til 9:00 pm; Fri. and Sat. til 10 pm: 103 Albemarle Street; 252-482-3641 \n800-775-0111 \nnancy.nicholls@chowan.nc.gov
URL:https://www.350th.com/event/celebrate-nc-beer-month-in-historic-edenton/
LOCATION:North Carolina
END:VEVENT
BEGIN:VEVENT
DTSTART;TZID=UTC:20180331T080000
DTEND;TZID=UTC:20180331T120000
DTSTAMP:20260424T024137
CREATED:20180130T181442Z
LAST-MODIFIED:20180130T181442Z
UID:558-1522483200-1522497600@www.350th.com
SUMMARY:Breakfast with the Easter Bunny
DESCRIPTION:Saturday\, March 31\, 2018 \nBreakfast with the Easter Bunny \nIn cooperation with Unanimity Masonic Lodge\, 215 E Water Street\, “Breakfast with the Easter Bunny”\, including pancakes\, sausage\, milk and orange juice from 8 am – 9 am at the lodge. \nFollowing breakfast\, an Easter egg Drop/hunt will take place on the 1767 Courthouse Green. Special sections will be designated for children ages 2-4\, 5-8\, and 8 & up to retrieve candy filled eggs. The egg hunt will be from 9:30 – 10:30 am. The Easter Bunny will be on the Green for free photo opportunities. Children’s crafts and games will be offered and Spring chicks and Easter ducklings will also be on display. \nTickets: Breakfast with the Easter Bunny $2/person; Easter Drop\, crafts & games $2/child; Hay Ride $2/child and all 3 activities as a package $5/child – $2/adult. \n8 am – 12 noon \nMasonic Lodge and 1767 Courthouse Green \n$2 per activity or $5 for package \n252-482-2637 \nedenton@ncdcr.gov \n 
URL:https://www.350th.com/event/breakfast-with-the-easter-bunny/
LOCATION:Unanimity Masonic Lodge\, 215 E Water St\, Edenton\, North Carolina
END:VEVENT
BEGIN:VEVENT
DTSTART;VALUE=DATE:20180324
DTEND;VALUE=DATE:20180325
DTSTAMP:20260424T024137
CREATED:20180130T182633Z
LAST-MODIFIED:20180130T182633Z
UID:561-1521849600-1521935999@www.350th.com
SUMMARY:Rocky Hock Playhouse Easter Show
DESCRIPTION:Saturday\, March 24\, 2018 \nRocky Hock Playhouse Easter Show \n“Our Risen Savior” is the Easter production with the lunch buffet @ Nixon’s Catering Banquet Facility. This feature will run through April 17th. \nContact the Rocky Hock Playhouse for performance times and ticket information. \nCall for Schedule \nNixon’s Catering Facility – 749 Virginia Road \nCall for Ticket Prices \n252-482-4621 \nrockyhockplayhouse.com
URL:https://www.350th.com/event/rocky-hock-playhouse-easter-show/
LOCATION:Rocky Hock Playhouse\, 749 Virginia Road\, Edenton\, North Carolina
END:VEVENT
BEGIN:VEVENT
DTSTART;VALUE=DATE:20180317
DTEND;VALUE=DATE:20180318
DTSTAMP:20260424T024137
CREATED:20180130T180722Z
LAST-MODIFIED:20180130T180722Z
UID:551-1521244800-1521331199@www.350th.com
SUMMARY:Special Olympics 5K
DESCRIPTION:Saturday\, March 17\, 2018 \nSpecial Olympics 5K \nSupport Chowan County’s Special Olympics by participating in the 5K fundraiser for this very worthwhile program. \nMore information will follow shortly so you can join in celebration of Chowan County’s 350th Anniversary year.
URL:https://www.350th.com/event/special-olympics-5k/
LOCATION:North Carolina
END:VEVENT
BEGIN:VEVENT
DTSTART;TZID=UTC:20180309T100000
DTEND;TZID=UTC:20180310T160000
DTSTAMP:20260424T024137
CREATED:20180130T180926Z
LAST-MODIFIED:20180221T031526Z
UID:553-1520589600-1520697600@www.350th.com
SUMMARY:350th Anniversary Heritage Planting Demonstration
DESCRIPTION:Friday & Saturday\, March 9-10\, 2018 \n350th Anniversary Heritage Planting Demonstration \nIn Celebration of Chowan County’s 350th Anniversary\, Edenton Chowan School Students will experience how fields were cultivated and planted years ago. This same “Step Back in Time” demonstration will take place on Saturday for the public. \nThe NC Workhorse and Mule Association will be with us to demonstrate. \nEast Coast Equipment will have tractors on display from the very early years right up to now for everyone to see. \n10 am – \n508 Church Street Extended across from East Coast Equipment \n252-333-5540 \njosephgoodwin@gmail.com \nncworkhorseandmuleassociation.com
URL:https://www.350th.com/event/350th-anniversary-heritage-planting-demonstration/
LOCATION:East Coast Equipment\, 508 Church St Extended\, Edenton\, North Carolina
END:VEVENT
BEGIN:VEVENT
DTSTART;TZID=UTC:20180301T110000
DTEND;TZID=UTC:20180331T160000
DTSTAMP:20260424T024137
CREATED:20180130T181122Z
LAST-MODIFIED:20180130T181122Z
UID:556-1519902000-1522512000@www.350th.com
SUMMARY:Susan and Ashlee Birkhead Artwork
DESCRIPTION:Thursday\, March 1-30\, 2018 \nSusan and Ashlee Birkhead Artwork \nIn celebration of Chowan County’s 350th Anniversary\, the Chowan Arts Council is pleased to announce that Artist\, Teacher Susan Birkhead and her daughter\, Ashlee will have their artwork on display in the gallery throughout the month of March. \nStay tuned for the opening reception date and time for this incredible exhbit. \n11 am – 4 pm Daily \nChowan Arts Council – 504 South Broad Street \n252-482-8005 \ncacedenton@gmail.com \nchowanarts.com
URL:https://www.350th.com/event/susan-and-ashlee-birkhead-artwork/
LOCATION:Chowan Arts Council Gallery\, 504 S Broad St\, Edenton\, NC\, 27932
END:VEVENT
BEGIN:VEVENT
DTSTART;TZID=UTC:20180214T080000
DTEND;TZID=UTC:20180215T170000
DTSTAMP:20260424T024137
CREATED:20180130T175320Z
LAST-MODIFIED:20180130T175320Z
UID:541-1518595200-1518714000@www.350th.com
SUMMARY:Valentine's Day Romantic Breakfast Package
DESCRIPTION:Wednesday\, February 14-15\, 2018 \nValentine’s Day Romantic Breakfast Package \nIn celebration of Chowan County’s 350th Anniversary\, for a quiet and peaceful escape this Valentine’s Day\, stay at The Granville Queen Inn\, Edenton’s #1 Bed and Breakfast Inn on TripAdvisor.com. \nWake up to a 3 course Breakfast and a special Valentine’s dessert each morning with long stem roses. Regular room rate plus $25. Package available on February 14 and 15. \nGranville Queen Inn Bed and Breakfast 108 S Granville Street \n252-482-5296 or 866-482-8534 \nstay@granvillequeen.com \ngranvillequeen.com
URL:https://www.350th.com/event/valentines-day-romantic-breakfast-package/
LOCATION:Granville Queen Inn\, 108 S Granville St\, Edenton\, North Carolina
END:VEVENT
BEGIN:VEVENT
DTSTART;TZID=UTC:20180214T080000
DTEND;TZID=UTC:20180214T170000
DTSTAMP:20260424T024137
CREATED:20180130T175059Z
LAST-MODIFIED:20180130T175059Z
UID:539-1518595200-1518627600@www.350th.com
SUMMARY:Valentine's Day at The Cotton Gin Inn
DESCRIPTION:Wednesday\, February 14\, 2018 \nValentine’s Day at The Cotton Gin Inn \nIn celebration of Chowan County’s 350th Anniversary\, Come join in the Supper Club and Stay the Night in a romantic room adorned with roses and hand-made sweets. Wake to a romantic 3-Course breakfast. Call for Special Rates. \nThe Cotton Gin Inn 110 Old Hertford Road \n252-368-4881 \ncher.orr@gmail.com \nthecottongininn.com
URL:https://www.350th.com/event/valentines-day-at-the-cotton-gin-inn/
LOCATION:The Cotton Gin Inn\, 110 Old Hertford Road\, Edenton\, NC\, 27932\, United States
ORGANIZER;CN="The Cotton Gin Inn":MAILTO:cher.orr@gmail.com
END:VEVENT
BEGIN:VEVENT
DTSTART;TZID=UTC:20180214T080000
DTEND;TZID=UTC:20180214T170000
DTSTAMP:20260424T024137
CREATED:20180130T174928Z
LAST-MODIFIED:20180130T174928Z
UID:537-1518595200-1518627600@www.350th.com
SUMMARY:Wine Dine and Don't Drive this Valentine Day
DESCRIPTION:Wednesday\, February 14\, 2018 \nWine Dine and Don’t Drive this Valentine Day \nCome and enjoy a three course dinner with wine and get 20% off the room of your choice that evening. \nCaptains Quarters Inn 202 W Queen Street \n252-482-8945 \nwq.202@hotmail.com \nwww.captainsquartersinn.com
URL:https://www.350th.com/event/wine-dine-and-dont-drive-this-valentine-day/
LOCATION:Captains Quarters\, 202 W Queen St\, Edenton\, NC\, United States
ORGANIZER;CN="Captains Quarters Inn":MAILTO:wq.202@hotmail.com
END:VEVENT
BEGIN:VEVENT
DTSTART;TZID=UTC:20180209T080000
DTEND;TZID=UTC:20180210T170000
DTSTAMP:20260424T024137
CREATED:20180130T174813Z
LAST-MODIFIED:20180130T174813Z
UID:533-1518163200-1518282000@www.350th.com
SUMMARY:Early Valentines Weekend Getaway
DESCRIPTION:Friday & Saturday\, February 9-10\, 2018 \nEarly Valentines Weekend Getaway \nIn celebration of Chowan County’s 350th Anniversary\, surprise your sweetheart with a two night getaway. Pick the room of your choice and sign up for our three course dinner matched with wine. Top this Special Weekend off with a complimentary Sparkling Wine Tasting. \nCaptains Quarters Inn 202 W Queen Street \n252-482 -8945 \nwq.202@hotmail.com \ncaptainsquartersinn.com
URL:https://www.350th.com/event/early-valentines-weekend-getaway/
LOCATION:Captains Quarters\, 202 W Queen St\, Edenton\, NC\, United States
ORGANIZER;CN="Captains Quarters Inn":MAILTO:wq.202@hotmail.com
END:VEVENT
BEGIN:VEVENT
DTSTART;VALUE=DATE:20180209
DTEND;VALUE=DATE:20180219
DTSTAMP:20260424T024137
CREATED:20180130T180409Z
LAST-MODIFIED:20180130T180409Z
UID:545-1518134400-1518998399@www.350th.com
SUMMARY:350th Anniversary Valentine Packages
DESCRIPTION:Friday – Sunday\, February 9-18\, 2018 \n350th Anniversary Valentine Packages \nIn Celebration of Chowan County’s 350th Anniversary\, Edenton’s inns and motels in cooperation with independently owned restaurants and unique shops has in place Valentine Packages to please that special someone and create cherished memories for a lifetime. \n. \nExplore the packages on visitedenton.com/where-to-stay \nAccommodation of Your Choice \n800-775-0111 \nwww.visitedenton.com/where-to-stay
URL:https://www.350th.com/event/350th-anniversary-valentine-packages/
LOCATION:North Carolina
END:VEVENT
BEGIN:VEVENT
DTSTART;TZID=UTC:20180201T110000
DTEND;TZID=UTC:20180228T160000
DTSTAMP:20260424T024137
CREATED:20180130T180620Z
LAST-MODIFIED:20180130T180620Z
UID:547-1517482800-1519833600@www.350th.com
SUMMARY:Pearliss Speller Art @ CAC
DESCRIPTION:  \nThursday\, February 1\, 2018 \nPearliss Speller Art @ CAC \nIn Celebration of Chowan County’s 350th Anniversary and Black History Month\, East Carolina University Artist\, Pearliss Speller’s artwork will be on display in the Gallery during the month of February. \nStay Tuned for the Opening Reception Date and Time. \n11 am – 4 pm daily \nCAC Gallery – 504 South Broad Street \n252-482-8005 \ncacedenton@gmail.com \nwww.chowanarts.com
URL:https://www.350th.com/event/pearliss-speller-art-cac/
LOCATION:CAC Gallery\, 504 S Broad St\, Edenton\, NC\, 27932
ORGANIZER;CN="CAC Gallery":MAILTO:cacedenton@gmail.com
END:VEVENT
BEGIN:VEVENT
DTSTART;TZID=UTC:20180126T180000
DTEND;TZID=UTC:20180126T180000
DTSTAMP:20260424T024137
CREATED:20180116T031758Z
LAST-MODIFIED:20180116T031758Z
UID:501-1516989600-1516989600@www.350th.com
SUMMARY:French Demystified IV - Cooking Classes at the Cotton Gin Inn
DESCRIPTION:Classes include a CGI logo apron. \n-Petite Salade Nicoise Vegetarian \n-Quick Cassoulet \n-Chocolate Creme Brulee \n6:00 pm \nThe Cotton Gin Inn \n$50/person \n252-368-4881 \ncher.orr@gmail.com \nthecottongininn.com
URL:https://www.350th.com/event/french-demystified-iv-cooking-classes-at-the-cotton-gin-inn/
LOCATION:The Cotton Gin Inn\, 110 Old Hertford Road\, Edenton\, NC\, 27932\, United States
END:VEVENT
BEGIN:VEVENT
DTSTART;TZID=UTC:20180119T180000
DTEND;TZID=UTC:20180119T180000
DTSTAMP:20260424T024137
CREATED:20180116T031511Z
LAST-MODIFIED:20180116T031511Z
UID:499-1516384800-1516384800@www.350th.com
SUMMARY:French Demystified III - Cooking Classes at the Cotton Gin Inn
DESCRIPTION:Classes include a CGI logo apron. \n-Petite Salade Nicoise Vegetarian \n-Quick Cassoulet \n-Chocolate Creme Brulee \n6:00 pm \nThe Cotton Gin Inn \n$50/person \n252-368-4881 \ncher.orr@gmail.com \nthecottongininn.com
URL:https://www.350th.com/event/french-demystified-iii-cooking-classes-at-the-cotton-gin-inn/
LOCATION:The Cotton Gin Inn\, 110 Old Hertford Road\, Edenton\, NC\, 27932\, United States
END:VEVENT
BEGIN:VEVENT
DTSTART;VALUE=DATE:20180111
DTEND;VALUE=DATE:20180131
DTSTAMP:20260424T024137
CREATED:20180116T032158Z
LAST-MODIFIED:20180116T032158Z
UID:503-1515628800-1517356799@www.350th.com
SUMMARY:Supporters Show
DESCRIPTION:In Celebration of Chowan County’s 350th Anniversary\, the Chowan Arts Council is asking their members to get ready for this wonderful show to open January 11th at the Chowan Arts Council. The theme this year is �Famous Quotes�. What quote best describes your entries. $10 per piece to enter and then the winners will have a special area in the new gallery space to display a few of their works for the month of January. More info and entry deadlines to follow. So start creating. \nAll works must have been created within the last 24 months. \n5:30-7:30 Reception and 11 – 4 daily \nChowan Arts Council \n252-482-8005 \ncacedenton@gmail.com \nchowanarts.com
URL:https://www.350th.com/event/supporters-show/
LOCATION:Chowan Arts Council Gallery\, 504 S Broad St\, Edenton\, NC\, 27932
END:VEVENT
BEGIN:VEVENT
DTSTART;VALUE=DATE:20171222
DTEND;VALUE=DATE:20171223
DTSTAMP:20260424T024137
CREATED:20171130T002346Z
LAST-MODIFIED:20171130T002346Z
UID:453-1513900800-1513987199@www.350th.com
SUMMARY:The Grinch in the Courthouse & Santa @ Iredell 1827 Kitchen
DESCRIPTION:Thursday\, December 14\,16\,21\,22\, 2017 \nThe Grinch in the Courthouse & Santa @ Iredell 1827 Kitchen \nAll ages will love visiting the Grinch and Santa at these two unique sites. Great picture opportunities for all ages. Please contact Historic Edenton State Historic Site for more details. \n1767 Courthouse & Iredell 1827 Kitchen \n252-482-2637 \nrobert.hopkins@ncdcr.gov
URL:https://www.350th.com/event/the-grinch-in-the-courthouse-santa-iredell-1827-kitchen-4/
LOCATION:North Carolina
END:VEVENT
BEGIN:VEVENT
DTSTART;VALUE=DATE:20171221
DTEND;VALUE=DATE:20171222
DTSTAMP:20260424T024137
CREATED:20171130T002239Z
LAST-MODIFIED:20171130T002239Z
UID:451-1513814400-1513900799@www.350th.com
SUMMARY:The Grinch in the Courthouse & Santa @ Iredell 1827 Kitchen
DESCRIPTION:Thursday\, December 14\,16\,21\,22\, 2017 \nThe Grinch in the Courthouse & Santa @ Iredell 1827 Kitchen \nAll ages will love visiting the Grinch and Santa at these two unique sites. Great picture opportunities for all ages. Please contact Historic Edenton State Historic Site for more details. \n1767 Courthouse & Iredell 1827 Kitchen \n252-482-2637 \nrobert.hopkins@ncdcr.gov
URL:https://www.350th.com/event/the-grinch-in-the-courthouse-santa-iredell-1827-kitchen-3/
LOCATION:North Carolina
END:VEVENT
BEGIN:VEVENT
DTSTART;TZID=UTC:20171217T140000
DTEND;TZID=UTC:20171217T160000
DTSTAMP:20260424T024137
CREATED:20171129T215543Z
LAST-MODIFIED:20171129T215543Z
UID:420-1513519200-1513526400@www.350th.com
SUMMARY:Author Karen Gilbert of Rufus T. Rouse
DESCRIPTION:Sunday\, December 17\, 2017 \nAuthor Karen Gilbert of Rufus T. Rouse \nRufus T. Rouse is an Extraordinarily brave mouse from the land of Scotland. Karen is a North Carolina Author who was encouraged by her family and pastor as she began her writing of the first tale in her Christian Children’s series. \nIllustrator\, Hope Swinney will also be with Karen for this wonderful event including SANTA in the gallery. \n2:00 – 4:00 pm \nChowan Arts Council Gallery \n252-482-8005 \ncacedenton@gmail.com \nwww.chowanarts.com \n 
URL:https://www.350th.com/event/author-karen-gilbert-of-rufus-t-rouse/
LOCATION:Chowan Arts Council Gallery\, 504 S Broad St\, Edenton\, NC\, 27932
END:VEVENT
BEGIN:VEVENT
DTSTART;VALUE=DATE:20171216
DTEND;VALUE=DATE:20171217
DTSTAMP:20260424T024137
CREATED:20171130T002137Z
LAST-MODIFIED:20171130T002137Z
UID:449-1513382400-1513468799@www.350th.com
SUMMARY:The Grinch in the Courthouse & Santa @ Iredell 1827 Kitchen
DESCRIPTION:Thursday\, December 14\,16\,21\,22\, 2017 \nThe Grinch in the Courthouse & Santa @ Iredell 1827 Kitchen \nAll ages will love visiting the Grinch and Santa at these two unique sites. Great picture opportunities for all ages. Please contact Historic Edenton State Historic Site for more details. \n1767 Courthouse & Iredell 1827 Kitchen \n252-482-2637 \nrobert.hopkins@ncdcr.gov \n  \n 
URL:https://www.350th.com/event/the-grinch-in-the-courthouse-santa-iredell-1827-kitchen-2/
LOCATION:North Carolina
END:VEVENT
BEGIN:VEVENT
DTSTART;VALUE=DATE:20171216
DTEND;VALUE=DATE:20171218
DTSTAMP:20260424T024137
CREATED:20171130T001747Z
LAST-MODIFIED:20171130T001747Z
UID:445-1513382400-1513555199@www.350th.com
SUMMARY:A Christmas Carol 2017 An Edenton Family Tradition
DESCRIPTION:Friday – Sunday\, December 8-10; 16-17\, 2017 \nA Christmas Carol 2017 An Edenton Family Tradition \nYou’ll delight in Charles Dickens’ classic story of a wretched\, old geezer named Ebenezer Scrooge\, who values money more than anything else! Watch as he’s visited by his old partner Marley and the Ghosts of Christmas Past\, Present and Future. \nThere’s singing\, dancing and lots of merriment as Scrooge finds his way towards a happier life…just in time for Christmas!. \nDecember 8 at 8 PM; December 9 at 8 PM; December 10 at 3 PM \nDecember 16 at 8 pm; December 17 at 3 pm \nReserved seating\, tickets $25. \nPlease visit the website below to purchase tickets and more information. \n8 & 9 @ 8 pm\, 10 @ 3 pm; 16 @ 8 pm\, 17 @ 3 pm \n1767 Chowan County Courthouse 117 E King Street \n$25.00 Reserved Seating \n252-528-8300 \nlaurie@laurieedwards.com \nwww.epicmusictheatre.com/copy-of-upcoming-shows \n 
URL:https://www.350th.com/event/a-christmas-carol-2017-an-edenton-family-tradition-2/
LOCATION:North Carolina
END:VEVENT
BEGIN:VEVENT
DTSTART;VALUE=DATE:20171214
DTEND;VALUE=DATE:20171215
DTSTAMP:20260424T024137
CREATED:20171130T002020Z
LAST-MODIFIED:20171130T002020Z
UID:447-1513209600-1513295999@www.350th.com
SUMMARY:The Grinch in the Courthouse & Santa @ Iredell 1827 Kitchen
DESCRIPTION:Thursday\, December 14\,16\,21\,22\, 2017 \nThe Grinch in the Courthouse & Santa @ Iredell 1827 Kitchen \nAll ages will love visiting the Grinch and Santa at these two unique sites. Great picture opportunities for all ages. Please contact Historic Edenton State Historic Site for more details. \n1767 Courthouse & Iredell 1827 Kitchen \n252-482-2637 \nrobert.hopkins@ncdcr.gov \n  \n 
URL:https://www.350th.com/event/the-grinch-in-the-courthouse-santa-iredell-1827-kitchen/
LOCATION:North Carolina
END:VEVENT
BEGIN:VEVENT
DTSTART;TZID=UTC:20171211T190000
DTEND;TZID=UTC:20171211T190000
DTSTAMP:20260424T024137
CREATED:20171130T003607Z
LAST-MODIFIED:20171130T003607Z
UID:458-1513018800-1513018800@www.350th.com
SUMMARY:Currituck Historical Society Meeting
DESCRIPTION:Currituck Historical Society December meeting will be on the 11th at the Barco Library at 7:00. The speaker will be Clark Twiddy from Corolla.  He will talk about the 100th anniversary of Washwoods Lifesaving Station; it’s history and restoration.  Clark is very active in preservation in North Carolina and has served as an officer of Preservation NC.
URL:https://www.350th.com/event/currituck-historical-society-meeting/
LOCATION:Currituck County Library\, 4261 Caratoke Hwy\, Barco\, NC\, United States
END:VEVENT
BEGIN:VEVENT
DTSTART;TZID=UTC:20171209T100000
DTEND;TZID=UTC:20171209T100000
DTSTAMP:20260424T024137
CREATED:20171129T235351Z
LAST-MODIFIED:20171129T235351Z
UID:437-1512813600-1512813600@www.350th.com
SUMMARY:Edenton Chowan Christmas Parade
DESCRIPTION:Saturday\, December 9\, 2017 \nEdenton Chowan Christmas Parade \nCome and enjoy the floats\, boats\, horses and holiday cheer! This year’s theme will be “Christmas by the Sound”. \nJoin Santa after the Parade at Salty Kisses Kids Boutique to let him know what you would like for this year’s special gift and holiday activities. \nIf you wish to participate in the parade\, please download the entry form and submit it. \n10:00 am \nNorth and South Broad Street \n252-482-3400 \nwin.dale@edenton.nc.gov \nwww.edentonchamber.org \n 
URL:https://www.350th.com/event/edenton-chowan-christmas-parade/
LOCATION:North Carolina
END:VEVENT
BEGIN:VEVENT
DTSTART;TZID=UTC:20171208T190000
DTEND;TZID=UTC:20171208T190000
DTSTAMP:20260424T024137
CREATED:20171130T003232Z
LAST-MODIFIED:20171130T003232Z
UID:455-1512759600-1512759600@www.350th.com
SUMMARY:Currituck County Tree Lighting
DESCRIPTION:Currituck County Tree Lighting at the Historic Currituck Courthouse \nDecember 8th\, 7pm
URL:https://www.350th.com/event/currituck-county-tree-lighting/
LOCATION:Historic Currituck Courthouse\, 153 Courthouse Rd\, Currituck\, NC\, 27929
END:VEVENT
BEGIN:VEVENT
DTSTART;TZID=UTC:20171208T180000
DTEND;TZID=UTC:20171208T180000
DTSTAMP:20260424T024137
CREATED:20171129T220930Z
LAST-MODIFIED:20171129T220930Z
UID:432-1512756000-1512756000@www.350th.com
SUMMARY:Caroling in the 1767 Courthouse
DESCRIPTION:  \nFriday\, December 8\, 2017 \nCaroling in the 1767 Courthouse \nGet in the festive spirit by joining us for an evening of community caroling and hear the traditional sounds of Christmas as they echo off the walls of the 1767 Chowan County Courthouse\, a National Historic Landmark\, and one of the most important Colonial buildings still standing in the state. Light holiday refreshments will be served. \n6:00 pm \n1767 Chowan County Courthouse – E King Street \nFree \n252-482-2637 \nedenton@ncdcr.gov \nwww.nchistoricsites.org/iredell/iredell.htm
URL:https://www.350th.com/event/caroling-in-the-1767-courthouse/
LOCATION:Historic Edenton State Historic Site\, 108 N Broad St\, Edenton\, NC\, 27932\, United States
END:VEVENT
BEGIN:VEVENT
DTSTART;TZID=UTC:20171208T160000
DTEND;TZID=UTC:20171209T200000
DTSTAMP:20260424T024137
CREATED:20171129T235731Z
LAST-MODIFIED:20171129T235731Z
UID:439-1512748800-1512849600@www.350th.com
SUMMARY:36th Annual Christmas Candlelight Tour
DESCRIPTION:  \nFriday & Saturday\, December 8-9\, 2017 \n36th Annual Christmas Candlelight Tour \nEnjoy Christmas Celebrations with natural decorations in beautiful private homes. Many weekend activities accompany the tour making the weekend visit a holiday wonder. \nThis tour is sponsored by the Edenton Historical Commission with tour headquarters at the Penelope Barker House Welcome Center. \n4 – 8 pm \nPenelope Barker House \n$30 in advance and $35 days of includes tax – Groups of 10 or more $25 per person \n252-482-7800 \ninfo@ehcnc.org \nwww.ehcnc.org
URL:https://www.350th.com/event/36th-annual-christmas-candlelight-tour/
LOCATION:North Carolina
ORGANIZER;CN="Edenton Historical Commission":MAILTO:info@ehcnc.org
END:VEVENT
BEGIN:VEVENT
DTSTART;TZID=UTC:20171208T130000
DTEND;TZID=UTC:20171209T170000
DTSTAMP:20260424T024137
CREATED:20171130T000658Z
LAST-MODIFIED:20171130T000658Z
UID:441-1512738000-1512838800@www.350th.com
SUMMARY:Historic James Iredell House's Annual Holiday Groaning Board
DESCRIPTION:Friday & Saturday\, December 8-9\, 2017 \nHistoric James Iredell House’s Annual Holiday Groaning Board \nJoin us for a special holiday tradition at the annual “groaning board” Christmas Tour at the James Iredell House\, home to colonial leader and George Washington-appointee to the United States Supreme Court. It is a display of Southern Hospitality at its finest with the table so full that the boards groan! The afternoon will include festive decorations\, music\, and holiday refreshments. \n1 -5 pm \nIredell House \nFree \n252-482-2637 \nedenton@ncdcr.gov \nwww.edenton.nchistoricsites.org
URL:https://www.350th.com/event/historic-james-iredell-houses-annual-holiday-groaning-board/
LOCATION:North Carolina
END:VEVENT
END:VCALENDAR