BEGIN:VCALENDAR
VERSION:2.0
PRODID:-// - ECPv6.15.20//NONSGML v1.0//EN
CALSCALE:GREGORIAN
METHOD:PUBLISH
X-ORIGINAL-URL:https://www.350th.com
X-WR-CALDESC:Events for 
REFRESH-INTERVAL;VALUE=DURATION:PT1H
X-Robots-Tag:noindex
X-PUBLISHED-TTL:PT1H
BEGIN:VTIMEZONE
TZID:UTC
BEGIN:STANDARD
TZOFFSETFROM:+0000
TZOFFSETTO:+0000
TZNAME:UTC
DTSTART:20160101T000000
END:STANDARD
END:VTIMEZONE
BEGIN:VEVENT
DTSTART;TZID=UTC:20171217T140000
DTEND;TZID=UTC:20171217T160000
DTSTAMP:20260424T053825
CREATED:20171129T215543Z
LAST-MODIFIED:20171129T215543Z
UID:420-1513519200-1513526400@www.350th.com
SUMMARY:Author Karen Gilbert of Rufus T. Rouse
DESCRIPTION:Sunday\, December 17\, 2017 \nAuthor Karen Gilbert of Rufus T. Rouse \nRufus T. Rouse is an Extraordinarily brave mouse from the land of Scotland. Karen is a North Carolina Author who was encouraged by her family and pastor as she began her writing of the first tale in her Christian Children’s series. \nIllustrator\, Hope Swinney will also be with Karen for this wonderful event including SANTA in the gallery. \n2:00 – 4:00 pm \nChowan Arts Council Gallery \n252-482-8005 \ncacedenton@gmail.com \nwww.chowanarts.com \n 
URL:https://www.350th.com/event/author-karen-gilbert-of-rufus-t-rouse/
LOCATION:Chowan Arts Council Gallery\, 504 S Broad St\, Edenton\, NC\, 27932
END:VEVENT
BEGIN:VEVENT
DTSTART;VALUE=DATE:20171216
DTEND;VALUE=DATE:20171217
DTSTAMP:20260424T053825
CREATED:20171130T002137Z
LAST-MODIFIED:20171130T002137Z
UID:449-1513382400-1513468799@www.350th.com
SUMMARY:The Grinch in the Courthouse & Santa @ Iredell 1827 Kitchen
DESCRIPTION:Thursday\, December 14\,16\,21\,22\, 2017 \nThe Grinch in the Courthouse & Santa @ Iredell 1827 Kitchen \nAll ages will love visiting the Grinch and Santa at these two unique sites. Great picture opportunities for all ages. Please contact Historic Edenton State Historic Site for more details. \n1767 Courthouse & Iredell 1827 Kitchen \n252-482-2637 \nrobert.hopkins@ncdcr.gov \n  \n 
URL:https://www.350th.com/event/the-grinch-in-the-courthouse-santa-iredell-1827-kitchen-2/
END:VEVENT
BEGIN:VEVENT
DTSTART;VALUE=DATE:20171216
DTEND;VALUE=DATE:20171218
DTSTAMP:20260424T053825
CREATED:20171130T001747Z
LAST-MODIFIED:20171130T001747Z
UID:445-1513382400-1513555199@www.350th.com
SUMMARY:A Christmas Carol 2017 An Edenton Family Tradition
DESCRIPTION:Friday – Sunday\, December 8-10; 16-17\, 2017 \nA Christmas Carol 2017 An Edenton Family Tradition \nYou’ll delight in Charles Dickens’ classic story of a wretched\, old geezer named Ebenezer Scrooge\, who values money more than anything else! Watch as he’s visited by his old partner Marley and the Ghosts of Christmas Past\, Present and Future. \nThere’s singing\, dancing and lots of merriment as Scrooge finds his way towards a happier life…just in time for Christmas!. \nDecember 8 at 8 PM; December 9 at 8 PM; December 10 at 3 PM \nDecember 16 at 8 pm; December 17 at 3 pm \nReserved seating\, tickets $25. \nPlease visit the website below to purchase tickets and more information. \n8 & 9 @ 8 pm\, 10 @ 3 pm; 16 @ 8 pm\, 17 @ 3 pm \n1767 Chowan County Courthouse 117 E King Street \n$25.00 Reserved Seating \n252-528-8300 \nlaurie@laurieedwards.com \nwww.epicmusictheatre.com/copy-of-upcoming-shows \n 
URL:https://www.350th.com/event/a-christmas-carol-2017-an-edenton-family-tradition-2/
END:VEVENT
BEGIN:VEVENT
DTSTART;VALUE=DATE:20171214
DTEND;VALUE=DATE:20171215
DTSTAMP:20260424T053825
CREATED:20171130T002020Z
LAST-MODIFIED:20171130T002020Z
UID:447-1513209600-1513295999@www.350th.com
SUMMARY:The Grinch in the Courthouse & Santa @ Iredell 1827 Kitchen
DESCRIPTION:Thursday\, December 14\,16\,21\,22\, 2017 \nThe Grinch in the Courthouse & Santa @ Iredell 1827 Kitchen \nAll ages will love visiting the Grinch and Santa at these two unique sites. Great picture opportunities for all ages. Please contact Historic Edenton State Historic Site for more details. \n1767 Courthouse & Iredell 1827 Kitchen \n252-482-2637 \nrobert.hopkins@ncdcr.gov \n  \n 
URL:https://www.350th.com/event/the-grinch-in-the-courthouse-santa-iredell-1827-kitchen/
END:VEVENT
BEGIN:VEVENT
DTSTART;TZID=UTC:20171211T190000
DTEND;TZID=UTC:20171211T190000
DTSTAMP:20260424T053825
CREATED:20171130T003607Z
LAST-MODIFIED:20171130T003607Z
UID:458-1513018800-1513018800@www.350th.com
SUMMARY:Currituck Historical Society Meeting
DESCRIPTION:Currituck Historical Society December meeting will be on the 11th at the Barco Library at 7:00. The speaker will be Clark Twiddy from Corolla.  He will talk about the 100th anniversary of Washwoods Lifesaving Station; it’s history and restoration.  Clark is very active in preservation in North Carolina and has served as an officer of Preservation NC.
URL:https://www.350th.com/event/currituck-historical-society-meeting/
LOCATION:Currituck County Library\, 4261 Caratoke Hwy\, Barco\, NC\, United States
END:VEVENT
BEGIN:VEVENT
DTSTART;TZID=UTC:20171209T100000
DTEND;TZID=UTC:20171209T100000
DTSTAMP:20260424T053825
CREATED:20171129T235351Z
LAST-MODIFIED:20171129T235351Z
UID:437-1512813600-1512813600@www.350th.com
SUMMARY:Edenton Chowan Christmas Parade
DESCRIPTION:Saturday\, December 9\, 2017 \nEdenton Chowan Christmas Parade \nCome and enjoy the floats\, boats\, horses and holiday cheer! This year’s theme will be “Christmas by the Sound”. \nJoin Santa after the Parade at Salty Kisses Kids Boutique to let him know what you would like for this year’s special gift and holiday activities. \nIf you wish to participate in the parade\, please download the entry form and submit it. \n10:00 am \nNorth and South Broad Street \n252-482-3400 \nwin.dale@edenton.nc.gov \nwww.edentonchamber.org \n 
URL:https://www.350th.com/event/edenton-chowan-christmas-parade/
END:VEVENT
BEGIN:VEVENT
DTSTART;TZID=UTC:20171208T190000
DTEND;TZID=UTC:20171208T190000
DTSTAMP:20260424T053825
CREATED:20171130T003232Z
LAST-MODIFIED:20171130T003232Z
UID:455-1512759600-1512759600@www.350th.com
SUMMARY:Currituck County Tree Lighting
DESCRIPTION:Currituck County Tree Lighting at the Historic Currituck Courthouse \nDecember 8th\, 7pm
URL:https://www.350th.com/event/currituck-county-tree-lighting/
LOCATION:Historic Currituck Courthouse\, 153 Courthouse Rd\, Currituck\, NC\, 27929
END:VEVENT
BEGIN:VEVENT
DTSTART;TZID=UTC:20171208T180000
DTEND;TZID=UTC:20171208T180000
DTSTAMP:20260424T053825
CREATED:20171129T220930Z
LAST-MODIFIED:20171129T220930Z
UID:432-1512756000-1512756000@www.350th.com
SUMMARY:Caroling in the 1767 Courthouse
DESCRIPTION:  \nFriday\, December 8\, 2017 \nCaroling in the 1767 Courthouse \nGet in the festive spirit by joining us for an evening of community caroling and hear the traditional sounds of Christmas as they echo off the walls of the 1767 Chowan County Courthouse\, a National Historic Landmark\, and one of the most important Colonial buildings still standing in the state. Light holiday refreshments will be served. \n6:00 pm \n1767 Chowan County Courthouse – E King Street \nFree \n252-482-2637 \nedenton@ncdcr.gov \nwww.nchistoricsites.org/iredell/iredell.htm
URL:https://www.350th.com/event/caroling-in-the-1767-courthouse/
LOCATION:Historic Edenton State Historic Site\, 108 N Broad St\, Edenton\, NC\, 27932\, United States
END:VEVENT
BEGIN:VEVENT
DTSTART;TZID=UTC:20171208T160000
DTEND;TZID=UTC:20171209T200000
DTSTAMP:20260424T053825
CREATED:20171129T235731Z
LAST-MODIFIED:20171129T235731Z
UID:439-1512748800-1512849600@www.350th.com
SUMMARY:36th Annual Christmas Candlelight Tour
DESCRIPTION:  \nFriday & Saturday\, December 8-9\, 2017 \n36th Annual Christmas Candlelight Tour \nEnjoy Christmas Celebrations with natural decorations in beautiful private homes. Many weekend activities accompany the tour making the weekend visit a holiday wonder. \nThis tour is sponsored by the Edenton Historical Commission with tour headquarters at the Penelope Barker House Welcome Center. \n4 – 8 pm \nPenelope Barker House \n$30 in advance and $35 days of includes tax – Groups of 10 or more $25 per person \n252-482-7800 \ninfo@ehcnc.org \nwww.ehcnc.org
URL:https://www.350th.com/event/36th-annual-christmas-candlelight-tour/
ORGANIZER;CN="Edenton Historical Commission":MAILTO:info@ehcnc.org
END:VEVENT
BEGIN:VEVENT
DTSTART;TZID=UTC:20171208T130000
DTEND;TZID=UTC:20171209T170000
DTSTAMP:20260424T053825
CREATED:20171130T000658Z
LAST-MODIFIED:20171130T000658Z
UID:441-1512738000-1512838800@www.350th.com
SUMMARY:Historic James Iredell House's Annual Holiday Groaning Board
DESCRIPTION:Friday & Saturday\, December 8-9\, 2017 \nHistoric James Iredell House’s Annual Holiday Groaning Board \nJoin us for a special holiday tradition at the annual “groaning board” Christmas Tour at the James Iredell House\, home to colonial leader and George Washington-appointee to the United States Supreme Court. It is a display of Southern Hospitality at its finest with the table so full that the boards groan! The afternoon will include festive decorations\, music\, and holiday refreshments. \n1 -5 pm \nIredell House \nFree \n252-482-2637 \nedenton@ncdcr.gov \nwww.edenton.nchistoricsites.org
URL:https://www.350th.com/event/historic-james-iredell-houses-annual-holiday-groaning-board/
END:VEVENT
BEGIN:VEVENT
DTSTART;TZID=UTC:20171208T130000
DTEND;TZID=UTC:20171208T170000
DTSTAMP:20260424T053825
CREATED:20171129T221315Z
LAST-MODIFIED:20171129T221315Z
UID:434-1512738000-1512752400@www.350th.com
SUMMARY:Annual Wassail Bowl at the Cupola House
DESCRIPTION:Friday & Saturday\, December 8-9\, 2017 \nAnnual Wassail Bowl at the Cupola House \nThe Cupola House is decorated with period decorations for the season. Wassail is will be served with cookies and renaissance Music both days of the tour. This event is part of the 36th annual Christmas Candlelight Tour. \n1-5pm \nCupola House: 408 South Broad Street \n252-482-2637 \nedenton@ncdcr.gov \ncupolahouse.org
URL:https://www.350th.com/event/annual-wassail-bowl-at-the-cupola-house/
LOCATION:Cupola House\, 408 South Broad St\, Edenton\, NC\, 27932
END:VEVENT
BEGIN:VEVENT
DTSTART;VALUE=DATE:20171208
DTEND;VALUE=DATE:20171211
DTSTAMP:20260424T053825
CREATED:20171130T001559Z
LAST-MODIFIED:20171130T001559Z
UID:443-1512691200-1512950399@www.350th.com
SUMMARY:A Christmas Carol 2017 An Edenton Family Tradition
DESCRIPTION:Friday – Sunday\, December 8-10; 16-17\, 2017 \nA Christmas Carol 2017 An Edenton Family Tradition \nYou’ll delight in Charles Dickens’ classic story of a wretched\, old geezer named Ebenezer Scrooge\, who values money more than anything else! Watch as he’s visited by his old partner Marley and the Ghosts of Christmas Past\, Present and Future. \nThere’s singing\, dancing and lots of merriment as Scrooge finds his way towards a happier life…just in time for Christmas!. \nDecember 8 at 8 PM; December 9 at 8 PM; December 10 at 3 PM \nDecember 16 at 8 pm; December 17 at 3 pm \nReserved seating\, tickets $25. \nPlease visit the website below to purchase tickets and more information. \n8 & 9 @ 8 pm\, 10 @ 3 pm; 16 @ 8 pm\, 17 @ 3 pm \n1767 Chowan County Courthouse 117 E King Street \n$25.00 Reserved Seating \n252-528-8300 \nlaurie@laurieedwards.com \nwww.epicmusictheatre.com/copy-of-upcoming-shows
URL:https://www.350th.com/event/a-christmas-carol-2017-an-edenton-family-tradition/
END:VEVENT
BEGIN:VEVENT
DTSTART;TZID=UTC:20171203T160000
DTEND;TZID=UTC:20171203T160000
DTSTAMP:20260424T053825
CREATED:20171129T220606Z
LAST-MODIFIED:20171129T220606Z
UID:429-1512316800-1512316800@www.350th.com
SUMMARY:The Albemarle Chorale Annual Christmas Concert
DESCRIPTION:  \nSunday\, December 3\, 2017 \nThe Albemarle Chorale Annual Christmas Concert \nCome enjoy a beautiful Christmas selections performed by The Albemarle Chorale. This year’s concert theme is “In Bethlehem”. \n4:00pm \nEdenton United Methodist Church – Virginia Road \nChristine Sclafani 252-221-8057 \nmtsclafani2@gmail.com \n 
URL:https://www.350th.com/event/the-albemarle-chorale-annual-christmas-concert/
LOCATION:Edenton United Methodist Church\, 225 Virginia Rd\, Edenton\, NC\, 27932
END:VEVENT
BEGIN:VEVENT
DTSTART;TZID=UTC:20171201T190000
DTEND;TZID=UTC:20171201T190000
DTSTAMP:20260424T053825
CREATED:20171129T220054Z
LAST-MODIFIED:20171129T220054Z
UID:427-1512154800-1512154800@www.350th.com
SUMMARY:Rocky Hock Opry Christmas Show
DESCRIPTION:  \nFriday & Saturday\, December 1-2\, 2017 \nRocky Hock Opry Christmas Show \nChristmas Favorites from the 80s some old and some new. This Christmas Concert location will be announced at a later date. \n7:00 pm \n$10.00 \n252-333-8567
URL:https://www.350th.com/event/rocky-hock-opry-christmas-show/
END:VEVENT
BEGIN:VEVENT
DTSTART;TZID=UTC:20171201T173000
DTEND;TZID=UTC:20171201T173000
DTSTAMP:20260424T053825
CREATED:20171129T215844Z
LAST-MODIFIED:20171129T215844Z
UID:424-1512149400-1512149400@www.350th.com
SUMMARY:Christmas Extravaganza and Flotilla
DESCRIPTION:Friday\, December 1\, 2017 \nChristmas Extravaganza and Flotilla \nKick off the joyous holiday season with a wonderful annual event in Historic Downtown Edenton to include Tree Lighting and Flotilla – 5:30 pm. This event is sponsored by Destination Downtown Edenton. \nTree Lighting & Flotilla 5:30 pm \nSouth Broad Street at the monument \n252-333-0655 \njennifer.harriss@edenton.nc.gov \nmainstreetedenton.com
URL:https://www.350th.com/event/christmas-extravaganza-and-flotilla/
LOCATION:South Broad Street\, South Broad Street\, Edenton\, NC\, 27932
END:VEVENT
BEGIN:VEVENT
DTSTART;VALUE=DATE:20171023
DTEND;VALUE=DATE:20171024
DTSTAMP:20260424T053825
CREATED:20170915T171734Z
LAST-MODIFIED:20170915T171734Z
UID:285-1508716800-1508803199@www.350th.com
SUMMARY:NC Grand Lodge of Masons
DESCRIPTION:Monday\, October 23\, 2017 \nNC Grand Lodge of Masons \nIn celebration of the 1767 Chowan County Courthouse 250th Anniversary\, the North Carolina Grand Lodge of Masons will visit. The Grand Master will arrive via the Periauger and proceed to the Courthouse Green along East Water Street. The Masons met in the 1767 Chowan County Courthouse for 150 years beginning in 1805 and will deliver a celebratory proclamation. More information to follow. \n1767 Chowan County Courthouse \n252-482-2637 \nrobert.hopkins@ncdcr.gov
URL:https://www.350th.com/event/nc-grand-lodge-of-masons/
LOCATION:Historic Edenton State Historic Site\, 108 N Broad St\, Edenton\, NC\, 27932\, United States
END:VEVENT
BEGIN:VEVENT
DTSTART;TZID=UTC:20171020T100000
DTEND;TZID=UTC:20171021T170000
DTSTAMP:20260424T053825
CREATED:20170915T171518Z
LAST-MODIFIED:20170915T171518Z
UID:283-1508493600-1508605200@www.350th.com
SUMMARY:243rd Edenton Tea Party
DESCRIPTION:Friday & Saturday\, October 20\, 21\, 2017 \n243rd Edenton Tea Party \nIn celebration of Penelope Barker and the anniversary of the Edenton Tea Party\, join the Edenton Historical Commission in celebrating this exceptional event in our history. \n10 am – 5 pm \nPenelope Barker House Welcome Center \n252-482-7800 \ninfo@ehcnc.org \nwww.ehcnc.org
URL:https://www.350th.com/event/243rd-edenton-tea-party/
LOCATION:Penelope Barker House\, 505 S Broad St\, Edenton\, NC\, 27932\, United States
END:VEVENT
BEGIN:VEVENT
DTSTART;TZID=UTC:20171013T183000
DTEND;TZID=UTC:20171014T200000
DTSTAMP:20260424T053825
CREATED:20170915T170708Z
LAST-MODIFIED:20170915T170708Z
UID:275-1507919400-1508011200@www.350th.com
SUMMARY:Historic Edenton Ghost Walk
DESCRIPTION:Friday & Saturday\, October 13-14\, 2017 \nHistoric Edenton Ghost Walk \nStories of Ghosts\, Witches\, and Goblins too……. \nGuides will lead you through Historic Edenton as tales are told every half hour beginning at 6:30 pm from the Penelope Barker House Welcome Center\, 505 S. Broad Street. \n6:30 – 8:00 pm \nThe Penelope Barker House Welcome Center \n$10.00 \n252-482-3400 \nwin.dale@edenton.nc.gov \nwww.facebook.com/300YearsOfHaunts
URL:https://www.350th.com/event/historic-edenton-ghost-walk/
LOCATION:Penelope Barker House\, 505 S Broad St\, Edenton\, NC\, 27932\, United States
END:VEVENT
BEGIN:VEVENT
DTSTART;TZID=UTC:20171013T090000
DTEND;TZID=UTC:20171014T170000
DTSTAMP:20260424T053825
CREATED:20170915T171355Z
LAST-MODIFIED:20170915T171355Z
UID:280-1507885200-1508000400@www.350th.com
SUMMARY:Pirate Encampment
DESCRIPTION:Friday & Saturday\, October 13-15\, 2017 \nPirate Encampment \nIn celebration of the 1767 Chowan County Courthouse 250th Anniversary – join the pirates as they spend the weekend in the 1886 Roanoke River Lighthouse. Activities for all ages\, with Pirate Tales and also a Pirate raid on Edenton will be on tap throughout the weekend. \n9 am – 5 pm \n1767 Chowan County Courthouse Green \n252-482-2637 \nrobert.hopkins@ncdcr.gov
URL:https://www.350th.com/event/pirate-encampment/
LOCATION:Ronaoke River Lighthouse\, Edenton\, NC\, United States
END:VEVENT
BEGIN:VEVENT
DTSTART;TZID=UTC:20171013T090000
DTEND;TZID=UTC:20171014T170000
DTSTAMP:20260424T053825
CREATED:20170915T170214Z
LAST-MODIFIED:20170915T170214Z
UID:269-1507885200-1508000400@www.350th.com
SUMMARY:Elizabeth II Visits
DESCRIPTION:Friday & Saturday\, October 13-14\, 2017 \nElizabeth II Visits \nIn celebration of the 1767 Chowan County Courthouse 250th Anniversary\, the Elizabeth II will leave their Festival Park location in Manteo\, NC and travel to Edenton. On Friday\, NC students will tour the boat and on Saturday\, the boat will be available for touring by the public. \nTo learn more about this event\, contact Historic Edenton State Historic Site @ 252-482-2637. \n9 am – 5 pm \nEdenton Harbor \n252-482-2637 \nrobert.hopkins@ncdcr.gov
URL:https://www.350th.com/event/elizabeth-ii-visits/
LOCATION:Edenton Harbor\, Edenton\, NC\, United States
END:VEVENT
BEGIN:VEVENT
DTSTART;TZID=UTC:20171010T090000
DTEND;TZID=UTC:20171014T170000
DTSTAMP:20260424T053825
CREATED:20170915T170501Z
LAST-MODIFIED:20170915T170501Z
UID:272-1507626000-1508000400@www.350th.com
SUMMARY:Colonial History Days
DESCRIPTION:Tuesday\, October 10-14\, 2017 \nColonial History Days \nNC School Groups will experience life during Colonial Times with hands-experiences from Tuesday – Saturday\, October 10 – 14. This is an extra special time since these activities take place during the 250th Celebration of the 1757 Chowan Country Courthouse Anniversary. \n9 am – 5 pm \nHistoric Edenton State Historic Site – 108 N Broad Street \n252-482-2637 \nrobert.hopkins@ncdcr.gov
URL:https://www.350th.com/event/colonial-history-days/
LOCATION:Historic Edenton State Historic Site\, 108 N Broad St\, Edenton\, NC\, 27932\, United States
END:VEVENT
BEGIN:VEVENT
DTSTART;TZID=UTC:20171007T090000
DTEND;TZID=UTC:20171007T090000
DTSTAMP:20260424T053825
CREATED:20170915T165949Z
LAST-MODIFIED:20170915T165949Z
UID:265-1507366800-1507366800@www.350th.com
SUMMARY:Edenton Peanut 5K Run or Walk
DESCRIPTION:Saturday\, October 7\, 2017 \nEdenton Peanut 5K Run or Walk \nRun/Walk through Historic Hayes Plantation with registration in Queen Anne Park. Awards for all ages with timing and scoring by Run the East\, with shoe chips-results posted atwww.runtheeast.com. Register online at the Run The East website and make checks payable to: John A. Holmes High School. The fee includes entry\, race t-shirt\, race day snacks. \n7:30 am Registration/Walk/Run 9 am \nQueen Anne park \n$25 in advance by 9/17/$30 Race Day/JAH or CMS athletes is $15 \n252-482-8426 \nrmock@ecps.k12.nc.us. \nwww.runtheeast.com
URL:https://www.350th.com/event/edenton-peanut-5k-run-or-walk/
LOCATION:Queen Anne Park\, 210 E Water St\, Edenton\, NC\, 27932\, United States
ORGANIZER;CN="Run the East":MAILTO:rmock@ecps.k12.nc.us
END:VEVENT
BEGIN:VEVENT
DTSTART;TZID=UTC:20171007T080000
DTEND;TZID=UTC:20171007T120000
DTSTAMP:20260424T053825
CREATED:20170915T172004Z
LAST-MODIFIED:20170915T172004Z
UID:289-1507363200-1507377600@www.350th.com
SUMMARY:Edenton Farmer's Market
DESCRIPTION:Saturday\, October 7\,14\,21\,28\, 2017 \nEdenton Farmer’s Market \nFresh Vegetables\, Meats\, Flowers and Homemade Treats – every Saturday throughout the growing season on the corner of Granville Street and Virginia Road on the Agriculture Building Lawn. \n8 am – 12 noon \nCorner of Granville Street and Virginia Road \n252-209-4792 \nwww.facebook.com/edentonfarmersmarket/
URL:https://www.350th.com/event/edenton-farmers-market-2/
LOCATION:Edenton Farmer’s Market\, Granville St & Virginia Rd\, Edenton\, NC\, United States
END:VEVENT
BEGIN:VEVENT
DTSTART;VALUE=DATE:20171007
DTEND;VALUE=DATE:20171008
DTSTAMP:20260424T053825
CREATED:20170915T165309Z
LAST-MODIFIED:20170915T165309Z
UID:262-1507334400-1507420799@www.350th.com
SUMMARY:42nd annual Peanut Festival and Battle of the Bands
DESCRIPTION:Saturday\, October 7\, 2017 \n42nd annual Peanut Festival and Battle of the Bands \nJohn A. Holmes High School\, parade at 11am\, food and arts and crafts vendors\, starting at noon\, with the band competition later in the day. 252-482-8426. \nIf your organization wants to be in the parade\, download the parade application. \nIf you want to be a arts and crafts vendor\, download the vendor application. \nParade 11 am/Festival all day \nJohn A. Holmes \n252-482-8426 \nldale@ecps.k12.nc.us
URL:https://www.350th.com/event/42nd-annual-peanut-festival-and-battle-of-the-bands/
LOCATION:John A. Holmes High School\, 600 Woodard St\, Edenton\, NC\, 27932\, United States
END:VEVENT
BEGIN:VEVENT
DTSTART;TZID=UTC:20170930T180000
DTEND;TZID=UTC:20170930T180000
DTSTAMP:20260424T053825
CREATED:20170915T165032Z
LAST-MODIFIED:20170915T165032Z
UID:260-1506794400-1506794400@www.350th.com
SUMMARY:Spanish Fusion - Cooking Classes at the Cotton Gin Inn
DESCRIPTION:Friday\, September 30\, 2017 \nSpanish Fusion – Cooking Classes at the Cotton Gin Inn \nAll classes include a monogrammed logo apron\, the recipes\, and food you prepare. Four person minimum required per class. \n-Tapas \n-Paella \n-Flan \n6:00 pm \nThe Cotton Gin Inn \n$50/person \n252-368-4881 \ncher.orr@gmail.com \nwww.thecottongininn.com
URL:https://www.350th.com/event/spanish-fusion-cooking-classes-at-the-cotton-gin-inn/
LOCATION:The Cotton Gin Inn\, 110 Old Hertford Road\, Edenton\, NC\, 27932\, United States
ORGANIZER;CN="The Cotton Gin Inn":MAILTO:cher.orr@gmail.com
END:VEVENT
BEGIN:VEVENT
DTSTART;VALUE=DATE:20170926
DTEND;VALUE=DATE:20171001
DTSTAMP:20260424T053825
CREATED:20170915T164316Z
LAST-MODIFIED:20170915T164316Z
UID:254-1506384000-1506815999@www.350th.com
SUMMARY:71st Chowan County Regional Fair
DESCRIPTION:Tuesday\, September 26\, 2017 \n71st Chowan County Regional Fair \n“Country Nights and Fair Lights” are this year’s fair theme. This award winning fair will have amusement rides\, entertainment\, exhibits\, and great food at the American Legion Fairgrounds! The Fair will run Tuesday\, September 26 – Saturday\, September 30. To purchase tickets in advance send check or money order to: Chowan County Regional Fair P.O. Box 390 Edenton\, NC 27932 \nAmerican Legion Fairgrounds \n252-482-5642 / 252-482-4057 \ninfo@chowanfair.com \nchowanfair.com
URL:https://www.350th.com/event/71st-chowan-county-regional-fair/
LOCATION:American Legion Fairgrounds\, 1317 West Queen Street Extension\, Edenton\, NC\, 27932\, United States
END:VEVENT
BEGIN:VEVENT
DTSTART;TZID=UTC:20170917T160000
DTEND;TZID=UTC:20170917T180000
DTSTAMP:20260424T053825
CREATED:20170915T163354Z
LAST-MODIFIED:20170915T163354Z
UID:250-1505664000-1505671200@www.350th.com
SUMMARY:Hugh Williamson Monument Dedication
DESCRIPTION:Sunday\, September 17\, 2017 \nHugh Williamson Monument Dedication \nThe Town of Edenton will host a Dedication Ceremony honoring Hugh Williamson and the monument honoring his signing of the Constitution of the United States of America. The ceremony will take place in the Elizabeth Vann Moore Park\, on East Water Street. The event is free and open to the public. \nHugh Williamson was a citizen of Edenton from 1777 to 1793. He served as the Surgeon General of North Carolina Troops during the American Revolution. He was a Framer and Signer of the United States Constitution for the State of North Carolina. He was original Trustee of the University of North Carolina (1789-1801) \n2:00 pm \nElizabeth Vann Moore Park\, East Water Street \nFree and Open to the Public \n252-482-7352 ext. 104 \ntammy.woodley@edenton.nc.gov
URL:https://www.350th.com/event/hugh-williamson-monument-dedication/
LOCATION:Penelope Barker House\, 505 S Broad St\, Edenton\, NC\, 27932\, United States
ORGANIZER;CN="Edenton Historical Commission":MAILTO:info@ehcnc.org
END:VEVENT
BEGIN:VEVENT
DTSTART;TZID=UTC:20170916T080000
DTEND;TZID=UTC:20170916T120000
DTSTAMP:20260424T053825
CREATED:20170915T164907Z
LAST-MODIFIED:20170915T164907Z
UID:257-1505548800-1505563200@www.350th.com
SUMMARY:Edenton Farmer's Market
DESCRIPTION:Edenton Farmer’s Market \nFresh Vegetables\, Meats\, Flowers and Homemade Treats – every Saturday throughout the growing season on the corner of Granville Street and Virginia Road on the Agriculture Building Lawn. \n8 am – 12 noon \nCorner of Granville Street and Virginia Road \n252-209-4792 \nwww.facebook.com/edentonfarmersmarket/
URL:https://www.350th.com/event/edenton-farmers-market/
LOCATION:Edenton Farmer’s Market\, Granville St & Virginia Rd\, Edenton\, NC\, United States
END:VEVENT
BEGIN:VEVENT
DTSTART;TZID=UTC:20170915T180000
DTEND;TZID=UTC:20170915T180000
DTSTAMP:20260424T053825
CREATED:20170915T162921Z
LAST-MODIFIED:20170915T162921Z
UID:246-1505498400-1505498400@www.350th.com
SUMMARY:Fresh Provencal - Cooking Classes at The Cotton Gin Inn
DESCRIPTION:Thursday\, September 15\, 2017 \nFresh Provencal – Cooking Classes at The Cotton Gin Inn \nAll classes include a monogrammed logo apron\, the recipes\, and food you prepare. Four person minimum required per class. \n-Ratatouille with Artichoke Brandade \n-Salade Nicoise \n-Blackberry Mille Feuille \n6:00 pm \nThe Cotton Gin Inn \n$50/person \n252-368-4881 \ncher.orr@gmail.com \nwww.thecottongininn.com
URL:https://www.350th.com/event/fresh-provencal-cooking-classes-at-the-cotton-gin-inn/
LOCATION:The Cotton Gin Inn\, 110 Old Hertford Road\, Edenton\, NC\, 27932\, United States
ORGANIZER;CN="The Cotton Gin Inn":MAILTO:cher.orr@gmail.com
END:VEVENT
BEGIN:VEVENT
DTSTART;TZID=UTC:20170726T103000
DTEND;TZID=UTC:20170726T233000
DTSTAMP:20260424T053825
CREATED:20170725T222613Z
LAST-MODIFIED:20170725T222613Z
UID:193-1501065000-1501111800@www.350th.com
SUMMARY:350th Meeting
DESCRIPTION:Information\, pictures here.
URL:https://www.350th.com/event/350th-meeting/
LOCATION:Museum of the Albemarle\, 501 S Water St\, Elizabeth City\, NC\, 27909\, United States
ORGANIZER;CN="Monica Bass":MAILTO:monica@longleafmarketing.com
END:VEVENT
END:VCALENDAR